BEGIN:VCALENDAR
VERSION:2.0
PRODID:-//art-sous-x - ECPv6.15.11//NONSGML v1.0//EN
CALSCALE:GREGORIAN
METHOD:PUBLISH
X-ORIGINAL-URL:https://artsousx.fr
X-WR-CALDESC:Évènements pour art-sous-x
REFRESH-INTERVAL;VALUE=DURATION:PT1H
X-Robots-Tag:noindex
X-PUBLISHED-TTL:PT1H
BEGIN:VTIMEZONE
TZID:UTC
BEGIN:STANDARD
TZOFFSETFROM:+0000
TZOFFSETTO:+0000
TZNAME:UTC
DTSTART:20230101T000000
END:STANDARD
END:VTIMEZONE
BEGIN:VEVENT
DTSTART;VALUE=DATE:20240513
DTEND;VALUE=DATE:20240617
DTSTAMP:20260421T105211
CREATED:20240513T091841Z
LAST-MODIFIED:20240513T091841Z
UID:10564-1715558400-1718582399@artsousx.fr
SUMMARY:Résidence Bouchor 10 ème édition
DESCRIPTION:Dossier appel à candidature à renvoyer au plus tard le 16 juin 2024
URL:https://artsousx.fr/event/residence-bouchor-10-eme-edition/
END:VEVENT
BEGIN:VEVENT
DTSTART;TZID=UTC:20240516T140000
DTEND;TZID=UTC:20240622T190000
DTSTAMP:20260421T105211
CREATED:20240513T092342Z
LAST-MODIFIED:20240513T092539Z
UID:10566-1715868000-1719082800@artsousx.fr
SUMMARY:Carte Blanche Dylan ALTAMIRANDA - « Cabinet d’imaginaires »
DESCRIPTION:Vernissage jeudi 16 mai 18h30 \,\nMercredi et jeudi 14h-19h \,\nSamedi et dimanche de 13h-18h
URL:https://artsousx.fr/event/carte-blanche-dylan-altamiranda/
LOCATION:Espace Bouchor\, 5 rue Maurice Bouchor\, Paris\, 75015\, France
END:VEVENT
BEGIN:VEVENT
DTSTART;TZID=UTC:20240525T110000
DTEND;TZID=UTC:20240606T180000
DTSTAMP:20260421T105211
CREATED:20240513T094419Z
LAST-MODIFIED:20240513T094533Z
UID:10584-1716634800-1717696800@artsousx.fr
SUMMARY:Résidence Bouchor Ed.9 exposition Montparnasse - Pons Coggia  Maeline Li\, Jade Charpagne\, Sandy Kalaydjian
DESCRIPTION:Vernissage 25 mai 19h-22h   \, \nLundi-vendredi 11h-18h  \, \nSamedi-dimanche : 13h-20h \n  \n 
URL:https://artsousx.fr/event/residence-bouchor-ed-9-exposition-montparnasse/
LOCATION:Résidence Bouchor\, Galerie Montparnasse 55\, rue du Montparnasse\, Paris\, 75014\, France
END:VEVENT
BEGIN:VEVENT
DTSTART;TZID=UTC:20240601T190000
DTEND;TZID=UTC:20240601T210000
DTSTAMP:20260421T105211
CREATED:20240513T092812Z
LAST-MODIFIED:20240513T092812Z
UID:10571-1717268400-1717275600@artsousx.fr
SUMMARY:Cabinet collectif  Nuit blanche
DESCRIPTION:Expo collective art vidéo des caraïbes \ncommissariat Valentina Rosas et Vanessa Arias
URL:https://artsousx.fr/event/cabinet-collectif-nuit-blanche/
LOCATION:Espace Bouchor\, 5 rue Maurice Bouchor\, Paris\, 75015\, France
END:VEVENT
BEGIN:VEVENT
DTSTART;TZID=UTC:20240607T190000
DTEND;TZID=UTC:20240607T210000
DTSTAMP:20260421T105211
CREATED:20240513T092914Z
LAST-MODIFIED:20240513T092914Z
UID:10573-1717786800-1717794000@artsousx.fr
SUMMARY:Conversation lectures débat
DESCRIPTION:
URL:https://artsousx.fr/event/conversation-lectures-debat/
LOCATION:Espace Bouchor\, 5 rue Maurice Bouchor\, Paris\, 75015\, France
END:VEVENT
BEGIN:VEVENT
DTSTART;TZID=UTC:20240613T140000
DTEND;TZID=UTC:20240623T190000
DTSTAMP:20260421T105211
CREATED:20240513T095039Z
LAST-MODIFIED:20240513T095039Z
UID:10589-1718287200-1719169200@artsousx.fr
SUMMARY:Gaëtan GAUTELIER\, Thomas  JULLIOT-DECKER - "La chose révélée"
DESCRIPTION:Vernissage 13 mai à 19h  \, \nVendredi-dimanche : 14h – 19h  \, \nSur rdv 06 63 78 19 74
URL:https://artsousx.fr/event/gaetan-gautelier-thomas-julliot-decker-la-chose-revelee/
LOCATION:Le 56\, 56\, rue d’Alésia\, PARIS\, 75014\, France
ORGANIZER;CN="Elisabeth TIZAOUI":MAILTO:elisabeth.tizaoui@gmail.com
END:VEVENT
BEGIN:VEVENT
DTSTART;TZID=UTC:20240622T183000
DTEND;TZID=UTC:20240622T210000
DTSTAMP:20260421T105211
CREATED:20240513T093046Z
LAST-MODIFIED:20240513T093204Z
UID:10575-1719081000-1719090000@artsousx.fr
SUMMARY:Exposition finissage
DESCRIPTION:Nouvelles œuvres et restitution cabinet collectif
URL:https://artsousx.fr/event/exposition-finissage/
LOCATION:Espace Bouchor\, 5 rue Maurice Bouchor\, Paris\, 75015\, France
END:VEVENT
BEGIN:VEVENT
DTSTART;TZID=UTC:20240627T080000
DTEND;TZID=UTC:20240710T170000
DTSTAMP:20260421T105211
CREATED:20240513T093530Z
LAST-MODIFIED:20240513T093530Z
UID:10580-1719475200-1720630800@artsousx.fr
SUMMARY:Carte blanche SHAZ
DESCRIPTION:Peinture ateliers
URL:https://artsousx.fr/event/carte-blanche-shaz/
LOCATION:Espace Bouchor\, 5 rue Maurice Bouchor\, Paris\, 75015\, France
END:VEVENT
END:VCALENDAR