BEGIN:VCALENDAR
VERSION:2.0
PRODID:-//art-sous-x - ECPv6.15.11//NONSGML v1.0//EN
CALSCALE:GREGORIAN
METHOD:PUBLISH
X-WR-CALNAME:art-sous-x
X-ORIGINAL-URL:https://artsousx.fr
X-WR-CALDESC:Évènements pour art-sous-x
REFRESH-INTERVAL;VALUE=DURATION:PT1H
X-Robots-Tag:noindex
X-PUBLISHED-TTL:PT1H
BEGIN:VTIMEZONE
TZID:UTC
BEGIN:STANDARD
TZOFFSETFROM:+0000
TZOFFSETTO:+0000
TZNAME:UTC
DTSTART:20220101T000000
END:STANDARD
END:VTIMEZONE
BEGIN:VEVENT
DTSTART;TZID=UTC:20231113T180000
DTEND;TZID=UTC:20231113T210000
DTSTAMP:20260421T204426
CREATED:20231012T130744Z
LAST-MODIFIED:20240304T135919Z
UID:9856-1699898400-1699909200@artsousx.fr
SUMMARY:Cours de gravure - Léa RIVERA HADJES
DESCRIPTION:
URL:https://artsousx.fr/event/cours-de-gravure/
LOCATION:Espace Bouchor\, 5 rue Maurice Bouchor\, Paris\, 75015\, France
END:VEVENT
BEGIN:VEVENT
DTSTART;VALUE=DATE:20231115
DTEND;VALUE=DATE:20231116
DTSTAMP:20260421T204426
CREATED:20231030T172003Z
LAST-MODIFIED:20240304T141108Z
UID:10079-1700006400-1700092799@artsousx.fr
SUMMARY:Pré ouverture de l'exposition de Léa RIVERA HADJES
DESCRIPTION:Sur rendez-vous
URL:https://artsousx.fr/event/pre-ouverture-de-lexposition-de-lea-rivera-hadjes/
LOCATION:Espace Bouchor\, 5 rue Maurice Bouchor\, Paris\, 75015\, France
END:VEVENT
BEGIN:VEVENT
DTSTART;TZID=UTC:20231116T180000
DTEND;TZID=UTC:20231116T220000
DTSTAMP:20260421T204426
CREATED:20231030T171908Z
LAST-MODIFIED:20240304T141038Z
UID:10077-1700157600-1700172000@artsousx.fr
SUMMARY:Vernissage exposition de Léa RIVERA HADJES
DESCRIPTION:
URL:https://artsousx.fr/event/vernissage-exposition-de-lea-rivera-hadjes/
LOCATION:Espace Bouchor\, 5 rue Maurice Bouchor\, Paris\, 75015\, France
END:VEVENT
BEGIN:VEVENT
DTSTART;TZID=UTC:20231125T110000
DTEND;TZID=UTC:20231125T123000
DTSTAMP:20260421T204426
CREATED:20231012T130523Z
LAST-MODIFIED:20231012T131433Z
UID:9852-1700910000-1700915400@artsousx.fr
SUMMARY:Atelier écriture
DESCRIPTION:
URL:https://artsousx.fr/event/atelier-ecriture-2/
LOCATION:Espace Bouchor\, 5 rue Maurice Bouchor\, Paris\, 75015\, France
END:VEVENT
BEGIN:VEVENT
DTSTART;TZID=UTC:20231127T180000
DTEND;TZID=UTC:20231127T210000
DTSTAMP:20260421T204426
CREATED:20231012T130827Z
LAST-MODIFIED:20240304T141004Z
UID:9858-1701108000-1701118800@artsousx.fr
SUMMARY:Cours de gravure - Léa RIVERA HADJES
DESCRIPTION:
URL:https://artsousx.fr/event/cours-de-gravure-2/
LOCATION:Espace Bouchor\, 5 rue Maurice Bouchor\, Paris\, 75015\, France
END:VEVENT
END:VCALENDAR