BEGIN:VCALENDAR
VERSION:2.0
PRODID:-//art-sous-x - ECPv6.15.11//NONSGML v1.0//EN
CALSCALE:GREGORIAN
METHOD:PUBLISH
X-WR-CALNAME:art-sous-x
X-ORIGINAL-URL:https://artsousx.fr
X-WR-CALDESC:Évènements pour art-sous-x
REFRESH-INTERVAL;VALUE=DURATION:PT1H
X-Robots-Tag:noindex
X-PUBLISHED-TTL:PT1H
BEGIN:VTIMEZONE
TZID:UTC
BEGIN:STANDARD
TZOFFSETFROM:+0000
TZOFFSETTO:+0000
TZNAME:UTC
DTSTART:20230101T000000
END:STANDARD
END:VTIMEZONE
BEGIN:VEVENT
DTSTART;TZID=UTC:20240507T080000
DTEND;TZID=UTC:20240512T170000
DTSTAMP:20260421T133904
CREATED:20240209T090255Z
LAST-MODIFIED:20240209T092306Z
UID:10323-1715068800-1715533200@artsousx.fr
SUMMARY:Exposition de Christiane DEVILLE
DESCRIPTION:
URL:https://artsousx.fr/event/exposition-de-christiane-deville/
LOCATION:LES LIENs DE TAVERS\, 71bis\, rue Hautes Guignières\, TAVERS\, 45190\, France
END:VEVENT
END:VCALENDAR