BEGIN:VCALENDAR
VERSION:2.0
PRODID:-//art-sous-x - ECPv6.15.11//NONSGML v1.0//EN
CALSCALE:GREGORIAN
METHOD:PUBLISH
X-ORIGINAL-URL:https://artsousx.fr
X-WR-CALDESC:Évènements pour art-sous-x
REFRESH-INTERVAL;VALUE=DURATION:PT1H
X-Robots-Tag:noindex
X-PUBLISHED-TTL:PT1H
BEGIN:VTIMEZONE
TZID:UTC
BEGIN:STANDARD
TZOFFSETFROM:+0000
TZOFFSETTO:+0000
TZNAME:UTC
DTSTART:20230101T000000
END:STANDARD
END:VTIMEZONE
BEGIN:VEVENT
DTSTART;TZID=UTC:20240303T140000
DTEND;TZID=UTC:20240303T170000
DTSTAMP:20260421T164532
CREATED:20240209T101219Z
LAST-MODIFIED:20240304T140506Z
UID:10331-1709474400-1709485200@artsousx.fr
SUMMARY:Atelier gravure - Marie DE RÉMUR : linogravure
DESCRIPTION:8 personnes /atelier \nA partir de 12ans \nTout public
URL:https://artsousx.fr/event/atelier-gravure-linogravure/
END:VEVENT
END:VCALENDAR