BEGIN:VCALENDAR
VERSION:2.0
PRODID:-//art-sous-x - ECPv6.15.11//NONSGML v1.0//EN
CALSCALE:GREGORIAN
METHOD:PUBLISH
X-WR-CALNAME:art-sous-x
X-ORIGINAL-URL:https://artsousx.fr
X-WR-CALDESC:Évènements pour art-sous-x
REFRESH-INTERVAL;VALUE=DURATION:PT1H
X-Robots-Tag:noindex
X-PUBLISHED-TTL:PT1H
BEGIN:VTIMEZONE
TZID:UTC
BEGIN:STANDARD
TZOFFSETFROM:+0000
TZOFFSETTO:+0000
TZNAME:UTC
DTSTART:20230101T000000
END:STANDARD
END:VTIMEZONE
BEGIN:VEVENT
DTSTART;TZID=UTC:20240302T180000
DTEND;TZID=UTC:20240302T200000
DTSTAMP:20260421T164145
CREATED:20240223T093654Z
LAST-MODIFIED:20240304T140710Z
UID:10456-1709402400-1709409600@artsousx.fr
SUMMARY:Inauguration de la fresque murale Marie DE RÉMUR
DESCRIPTION:A 18H face au 187 rue Vercingétorix (75014)
URL:https://artsousx.fr/event/inauguration-de-la-fresque-murale/
END:VEVENT
END:VCALENDAR